BEGIN:VCALENDAR
VERSION:2.0
PRODID:-//Jordan Schnitzer Museum of Art WSU - ECPv6.1.3//NONSGML v1.0//EN
CALSCALE:GREGORIAN
METHOD:PUBLISH
X-WR-CALNAME:Jordan Schnitzer Museum of Art WSU
X-ORIGINAL-URL:https://museum.wsu.edu
X-WR-CALDESC:Events for Jordan Schnitzer Museum of Art WSU
REFRESH-INTERVAL;VALUE=DURATION:PT1H
X-Robots-Tag:noindex
X-PUBLISHED-TTL:PT1H
BEGIN:VTIMEZONE
TZID:America/Los_Angeles
BEGIN:DAYLIGHT
TZOFFSETFROM:-0800
TZOFFSETTO:-0700
TZNAME:PDT
DTSTART:20190310T100000
END:DAYLIGHT
BEGIN:STANDARD
TZOFFSETFROM:-0700
TZOFFSETTO:-0800
TZNAME:PST
DTSTART:20191103T090000
END:STANDARD
END:VTIMEZONE
BEGIN:VEVENT
DTSTART;TZID=America/Los_Angeles:20190124T163000
DTEND;TZID=America/Los_Angeles:20190124T183000
DTSTAMP:20260420T094359
CREATED:20181130T190556Z
LAST-MODIFIED:20181130T190556Z
UID:10000462-1548347400-1548354600@museum.wsu.edu
SUMMARY:2019 | Reception & Performance with Artist Michael Schultheis: January 24\, 4:30-6:30 p.m.
DESCRIPTION:SPECIAL EVENT | Reception & Performance with Artist Michael Schultheis\nDate: Thursday\, January 24\, 2019\nTime: 4:30-6:30 p.m.\nLocation: Wright/Harmon Gallery| Jordan Schnitzer Museum of Art WSU \nThe Jordan Schnitzer Museum of Art WSU is hosting a reception & performance with artist Michael Schultheis on Thursday\, January 24 from 4:30-6:30 p.m. in the Wright/Harmon gallery. Enjoy the realms of math and art as they come together to tell a new kind of story. Everyone is welcome! Reception with light refreshments to follow. \nABOUT | Artist and Washington State University alumnus Michael Schultheis finds dynamic synergies between the languages of mathematics and art. An economist and mathematician\, with experience in both academic and corporate worlds\, Schultheis employs analytical formulae within his luminous paintings and sculptures. His art bends mathematical precision into imperfect visions\, creating room for metaphor\, storytelling\, and beauty\, connecting us all in its expression. \nRaised on a rural family farm near the Snake River in southeast Washington State\, Schultheis was awarded a B.A. in Honors Economics from WSU in 1990. His art has been featured in more than 60 solo exhibitions in the United States. It is included in public collections such as the National Academy of Sciences\, Washington D.C.\, and U.S. Embassies in Greece and Switzerland. Schultheis has lectured widely on ‘Analytical Expressionism’ a term he uses to describe his practice at the intersection of mathematics\, science\, technology and the visual arts. \nFunding has been provided by the Samuel H. & Patricia W. Smith Arts Endowment Fund\, the John Mathews Friel Memorial Arts Lectureship\, and the Members of the Jordan Schnitzer Museum of Art WSU. \nEXHIBITION | Michael Schultheis: Venn Pirouettes \nLOCATION | The  Jordan Schnitzer Museum of Art WSU is located in the Crimson Cube (on Wilson Road across from Martin Stadium and the CUB) on the WSU Pullman campus. The hours of our six galleries are Tuesday – Saturday\, 10 a.m. – 4 p.m.\, closed Sunday and Monday. For more information please contact the museum at 509-335-1910.
URL:https://museum.wsu.edu/event/2019-reception-performance-with-artist-michael-schultheis-january-24-430-630-p-m/
LOCATION:Museum of Art/WSU\, Fine Arts Center\, Pullman Campus\, Pullman\, WA\, 99164\, United States
CATEGORIES:Exhibit,Fine Arts,Museum of Art
ATTACH;FMTTYPE=image/jpeg:https://wpcdn.web.wsu.edu/wp-museum/uploads/sites/3189/2018/11/Micahel-Schultheis-Web-Banner-1.jpg
ORGANIZER;CN="Debby%20Stinson":MAILTO:debby_stinson@wsu.edu
GEO:46.7287207;-117.1542743
X-APPLE-STRUCTURED-LOCATION;VALUE=URI;X-ADDRESS=Museum of Art/WSU Fine Arts Center Pullman Campus Pullman WA 99164 United States;X-APPLE-RADIUS=500;X-TITLE=Fine Arts Center\, Pullman Campus:geo:-117.1542743,46.7287207
END:VEVENT
END:VCALENDAR