BEGIN:VCALENDAR
VERSION:2.0
PRODID:-//Jordan Schnitzer Museum of Art WSU - ECPv6.1.3//NONSGML v1.0//EN
CALSCALE:GREGORIAN
METHOD:PUBLISH
X-WR-CALNAME:Jordan Schnitzer Museum of Art WSU
X-ORIGINAL-URL:https://museum.wsu.edu
X-WR-CALDESC:Events for Jordan Schnitzer Museum of Art WSU
REFRESH-INTERVAL;VALUE=DURATION:PT1H
X-Robots-Tag:noindex
X-PUBLISHED-TTL:PT1H
BEGIN:VTIMEZONE
TZID:America/Los_Angeles
BEGIN:DAYLIGHT
TZOFFSETFROM:-0800
TZOFFSETTO:-0700
TZNAME:PDT
DTSTART:20180311T100000
END:DAYLIGHT
BEGIN:STANDARD
TZOFFSETFROM:-0700
TZOFFSETTO:-0800
TZNAME:PST
DTSTART:20181104T090000
END:STANDARD
END:VTIMEZONE
BEGIN:VEVENT
DTSTART;TZID=America/Los_Angeles:20180911T120000
DTEND;TZID=America/Los_Angeles:20180911T133000
DTSTAMP:20260421T155933
CREATED:20180731T211047Z
LAST-MODIFIED:20180731T211047Z
UID:10000400-1536667200-1536672600@museum.wsu.edu
SUMMARY:Fine Arts Faculty Exhibition | Reception and Gallery Talk
DESCRIPTION:Special Event: Fine Arts Faculty Exhibition: Reception and Gallery Talk with Doug Gast\, Joe Hedges and Io Palmer\nDate: Tuesday\, September 11\, 2018\nTime: 12:00-1:30 p.m.\nLocation: Borth Gallery | Jordan Schnitzer Museum of Art WSU \nThe Jordan Schnitzer Museum of Art WSU is hosting a reception and gallery talk with faculty artists Doug Gast\, Joe Hedges and Io Palmer on Tuesday\, September 11 from 12:00-1:30 p.m. in the Borth Gallery.  Everyone is welcome! Enjoy an enlightening conversation about the works in the exhibition Self•ish: Doug Gast\, Joe Hedges\, and Io Palmer from the perspective of the artists themselves. Reception with light refreshments to follow. \nLOCATION | The  Jordan Schnitzer Museum of Art WSU is located in the Crimson Cube (on Wilson Road across from Martin Stadium and the CUB) on the WSU Pullman campus. The hours of our six galleries are Tuesday – Saturday\, 10 a.m. – 4 p.m.\, closed Sunday and Monday. For more information please contact the museum at 509-335-1910. \n  \n 
URL:https://museum.wsu.edu/event/fine-arts-faculty-exhibition-reception-and-gallery-talk/
LOCATION:WA
ATTACH;FMTTYPE=image/jpeg:https://wpcdn.web.wsu.edu/wp-museum/uploads/sites/3189/2018/08/FA-01.jpg
END:VEVENT
BEGIN:VEVENT
DTSTART;TZID=America/Los_Angeles:20180920T163000
DTEND;TZID=America/Los_Angeles:20180920T183000
DTSTAMP:20260421T155933
CREATED:20180730T224105Z
LAST-MODIFIED:20180730T224105Z
UID:10000398-1537461000-1537468200@museum.wsu.edu
SUMMARY:Memento: Selected Works from the Elwood Collections
DESCRIPTION:Special Event: Memento: Reception & Gallery Talk with Sean Elwood\nDate: Thursday\, September 20\, 2018\nTime: 4:30-6:30 p.m.\nLocation: Creighton Gallery | Jordan Schnitzer Museum of Art WSU \nThe Jordan Schnitzer Museum of Art WSU is hosting a reception & gallery talk with Sean Elwood on Thursday\, September 20 from 4:30-6:30 p.m. in the Creighton Gallery.  Everyone is welcome! This is a wonderful opportunity for visitors to become familiar with the Memento exhibition through the eyes of the collector who donated these collections to Washington State University. Enjoy a reception with light refreshments and an informal evening of art engagement. \nEXHIBITION TRAILER | Memento: Selected Works from the Elwood Collections \nLOCATION | The  Jordan Schnitzer Museum of Art WSU is located in the Crimson Cube (on Wilson Road across from Martin Stadium and the CUB) on the WSU Pullman campus. The hours of our six galleries are Tuesday – Saturday\, 10 a.m. – 4 p.m.\, closed Sunday and Monday. For more information please contact the museum at 509-335-1910.
URL:https://museum.wsu.edu/event/memento-selected-works-from-the-elwood-collections/
LOCATION:WA
ATTACH;FMTTYPE=image/png:https://wpcdn.web.wsu.edu/wp-museum/uploads/sites/3189/2018/06/memento.png
END:VEVENT
BEGIN:VEVENT
DTSTART;TZID=America/Los_Angeles:20180927T163000
DTEND;TZID=America/Los_Angeles:20180927T183000
DTSTAMP:20260421T155933
CREATED:20180731T212805Z
LAST-MODIFIED:20180731T212805Z
UID:10000403-1538065800-1538073000@museum.wsu.edu
SUMMARY:Crow's Shadow Institute of the Arts at 25
DESCRIPTION:Special Event: Crow’s Shadow Reception/Gallery Conversation with artist James Lavadour and Dr. Rebecca Dobkins (Professor of Anthropology and Curator of Native American Art\, Hallie Ford Museum of Art\, Willamette University)\nDate: Thursday\, September 27\, 2018\nTime: 4:30-6:30 p.m.\nLocation: Wright/Harmon and Smith Galleries | Jordan Schnitzer Museum of Art WSU \nThe Jordan Schnitzer Museum of Art WSU is hosting a reception & gallery conversation – moderated by Dr. Michael Holloman with Dr. Rebecca Dobkins and artist James Lavadour – on Thursday\, September 27 from 4:30-6:30 p.m. in the Wright/Harmon and Smith Galleries.  Everyone is welcome! Enjoy a lively dialog about the works in the exhibition Crow’s Shadow Institute of the Arts at 25. Reception with light refreshments to follow. \nLOCATION | The  Jordan Schnitzer Museum of Art WSU is located in the Crimson Cube (on Wilson Road across from Martin Stadium and the CUB) on the WSU Pullman campus. The hours of our six galleries are Tuesday – Saturday\, 10 a.m. – 4 p.m.\, closed Sunday and Monday. For more information please contact the museum at 509-335-1910. \n 
URL:https://museum.wsu.edu/event/crows-shadow-institute-of-the-arts-at-25/
LOCATION:WA
ATTACH;FMTTYPE=image/png:https://wpcdn.web.wsu.edu/wp-museum/uploads/sites/3189/2018/06/crows-shadow.png
END:VEVENT
END:VCALENDAR