BEGIN:VCALENDAR
VERSION:2.0
PRODID:-//Jordan Schnitzer Museum of Art WSU - ECPv6.1.3//NONSGML v1.0//EN
CALSCALE:GREGORIAN
METHOD:PUBLISH
X-ORIGINAL-URL:https://museum.wsu.edu
X-WR-CALDESC:Events for Jordan Schnitzer Museum of Art WSU
REFRESH-INTERVAL;VALUE=DURATION:PT1H
X-Robots-Tag:noindex
X-PUBLISHED-TTL:PT1H
BEGIN:VTIMEZONE
TZID:America/Los_Angeles
BEGIN:DAYLIGHT
TZOFFSETFROM:-0800
TZOFFSETTO:-0700
TZNAME:PDT
DTSTART:20180311T100000
END:DAYLIGHT
BEGIN:STANDARD
TZOFFSETFROM:-0700
TZOFFSETTO:-0800
TZNAME:PST
DTSTART:20181104T090000
END:STANDARD
END:VTIMEZONE
BEGIN:VEVENT
DTSTART;TZID=America/Los_Angeles:20180406T120000
DTEND;TZID=America/Los_Angeles:20180406T130000
DTSTAMP:20260423T145826
CREATED:20180130T180009Z
LAST-MODIFIED:20180130T180009Z
UID:10000464-1523016000-1523019600@museum.wsu.edu
SUMMARY:Grand Opening Invitation: Jordan Schnitzer Museum of Art WSU
DESCRIPTION:Please join us for the Grand Opening Dedication Ceremony on Friday\, April 6 (mom’s weekend) from noon to 1:00 p.m.  President Kirk Schulz\, architect Jim Olson\, and patron Jordan Schnitzer will share their thoughts. Refreshments will be served in the Pavilion gallery and tours will be given every two hours beginning at 2:00 pm until closing. The new museum is located directly south of the CUB on Terrell Mall of the Pullman campus. \nIn the six new galleries of the Crimson Cube\, we will be hosting fiber constructions from Marie Watt\, an interactive sound sculpture by Trimpin\, ceramics by Jeffry Mitchell\, video from the True Collection\, and portraiture from the collections of Jordan D. Schnitzer and his Family Foundation. We will also feature works from the museum’s permanent collection titled Hearts: Selections from the Jim Dine Print Collection. We are delighted to host our featured artists’ works as our inaugural exhibitions and are confident that you will be inspired by both the art and the architecture you experience in the new space. \nIn our former location within the Fine Arts Center\, now known as the Collections & Learning Gallery\, we look forward to hosting the Masters of Fine Arts Thesis exhibition\, opening April 3. The reception for the MFA show is April 6\, at 6:00 p.m. Please check our calendar for opening event times and locations. It is going to be a busy weekend.
URL:https://museum.wsu.edu/event/grand-opening-invitation-jordan-schnitzer-museum-of-art-wsu/
LOCATION:WA
CATEGORIES:Exhibit,Fine Arts,Museum of Art
ATTACH;FMTTYPE=image/jpeg:https://wpcdn.web.wsu.edu/wp-museum/uploads/sites/3189/2018/01/JSMOA-WSU-image-by-Bob-Hubner-2.tif_.jpg
ORGANIZER;CN="Debby%20Stinson":MAILTO:debby_stinson@wsu.edu
END:VEVENT
BEGIN:VEVENT
DTSTART;TZID=America/Los_Angeles:20180406T180000
DTEND;TZID=America/Los_Angeles:20180406T200000
DTSTAMP:20260423T145826
CREATED:20180226T195638Z
LAST-MODIFIED:20180226T195638Z
UID:10000393-1523037600-1523044800@museum.wsu.edu
SUMMARY:2018 MFA Exhibition Reception\, Friday\, 4/6\, 6-8 p.m.
DESCRIPTION:RECEPTION: Friday\, April 6\, 6-8pm\, Collections and Learning Gallery\, Fine Arts Center\n \nJoin us for the Master of Fine Arts Thesis Reception\, organized by our curators Ryan Hardesty and Zach Mazur who’ve said\, “This exhibit provides a wide range of styles and stimulating experiences for faculty\, students and local museum constituents. The world-class faculty at WSU encourage the MFA candidates to become more assured and articulate in their convictions. We confidently present this year’s graduate thesis work in hopes that undergraduate students\, first year graduate students and anyone willing to be moved by art while spending time at WSU will find it a fun and stimulating experience.” This annual showcase represents the culmination of two or more years work by the Master of Fine Arts graduate candidates. \nMFA THESIS CANDIDATES | Jared Boorn\, Anna Carpenter\, Morganne Radziewicz\, Krista Brand\, Marguerite Gilbertson\, Mana Mehrabian\, and Amelia Warden. You can learn more about each artist by viewing their websites located in the right-hand sidebar. \nThe Jordan Schnitzer Museum of Art WSU is committed to the idea that museums have a responsibility to recognize the creative talent of its region.  Anna-Maria Shannon\, Interim Director of the museum adds\, “Exposing our audience to the culmination of two or more years work from our graduate candidates enriches the community life of Washington State University by providing meaningful encounters with creativity and innovation. Our over-arching goal is to support creativity and innovation in students who can seek out divergent opinions\, examine complex issues from a variety of perspectives and find meaning in the world.” \nLOCATION | The Collections and Learning Gallery of the Jordan Schnitzer Museum of Art WSU is located on Wilson Road across from Martin Stadium in the Fine Arts Center on the WSU Pullman campus. The Collections and Learning Gallery hours are Tuesday – Saturday\, noon – 4 p.m.\, closed Sunday and Monday. For more information please contact the museum at 509-335-1910.
URL:https://museum.wsu.edu/event/2018-mfa-exhibition-reception-friday-4-6-6-8-p-m/
LOCATION:Museum of Art/WSU\, Fine Arts Center\, Pullman Campus\, Pullman\, WA\, 99164\, United States
CATEGORIES:Exhibit,Fine Arts,Museum of Art
ATTACH;FMTTYPE=image/jpeg:https://wpcdn.web.wsu.edu/wp-museum/uploads/sites/3189/2018/02/WEB-MFA-SLIDE-JPG.jpg
ORGANIZER;CN="Debby%20Stinson":MAILTO:debby_stinson@wsu.edu
GEO:46.7287207;-117.1542743
X-APPLE-STRUCTURED-LOCATION;VALUE=URI;X-ADDRESS=Museum of Art/WSU Fine Arts Center Pullman Campus Pullman WA 99164 United States;X-APPLE-RADIUS=500;X-TITLE=Fine Arts Center\, Pullman Campus:geo:-117.1542743,46.7287207
END:VEVENT
BEGIN:VEVENT
DTSTART;TZID=America/Los_Angeles:20180412T133000
DTEND;TZID=America/Los_Angeles:20180412T143000
DTSTAMP:20260423T145826
CREATED:20180314T175423Z
LAST-MODIFIED:20180314T175423Z
UID:10000395-1523539800-1523543400@museum.wsu.edu
SUMMARY:Special Event: A Conversation with Jeffry Mitchell and Marie Watt
DESCRIPTION:Special Event: A Conversation with Jeffry Mitchell and Marie Watt\nDate: April 12\, 2018\nTime: 1:30-2:30 p.m.\nLocation: Borth and Creighton Galleries | Jordan Schnitzer Museum of Art WSU \nThe Jordan Schnitzer Museum of Art WSU is hosting a conversation with well-known artists Jeffry Mitchell and Marie Watt on April 12\, 2018 from 1:30-2:30 p.m. Everyone is welcome! This is a wonderful opportunity for visitors to become familiar with artists Jeffry Mitchell and Marie Watt. Marie will moderate a conversation with Jeffry about his work in the Borth Gallery (03). Jeffry will likewise moderate a conversation with Marie about her work in the Creighton Gallery (04). Enjoy this alternative method of engagement reflecting a dialog between two artists who know each other’s work both personally and professionally. \nLOCATION | The  Jordan Schnitzer Museum of Art WSU is located in the Crimson Cube (on Wilson Road across from Martin Stadium and the CUB) on the WSU Pullman campus. The hours of our six galleries are Tuesday – Saturday\, 10 a.m. – 4 p.m.\, closed Sunday and Monday. For more information please contact the museum at 509-335-1910.
URL:https://museum.wsu.edu/event/special-event-a-conversation-with-jeffry-mitchell-and-marie-watt/
LOCATION:WA
CATEGORIES:Exhibit,Fine Arts,Museum of Art
ATTACH;FMTTYPE=image/jpeg:https://wpcdn.web.wsu.edu/wp-museum/uploads/sites/3189/2018/03/WEB-SLIDE-Mitchell-Watt.jpg
ORGANIZER;CN="Debby%20Stinson":MAILTO:debby_stinson@wsu.edu
END:VEVENT
BEGIN:VEVENT
DTSTART;TZID=America/Los_Angeles:20180412T163000
DTEND;TZID=America/Los_Angeles:20180412T173000
DTSTAMP:20260423T145826
CREATED:20180314T182620Z
LAST-MODIFIED:20180314T182620Z
UID:10000397-1523550600-1523554200@museum.wsu.edu
SUMMARY:Marie Watt: Jo Hockenhull Distinguished Lecturer for 2018
DESCRIPTION:Thursday\, April 12\, 4:30 p.m.\, Fine Arts Auditorium 5062\, Fine Arts Center\, WSU \nThe Jo Hockenhull Lecture series\, organized by the Women’s Studies Program\, the Fine Arts Department\, and the Jordan Schnitzer Museum of Art WSU\, has named Marie Watt as the Visiting Lecturer for 2018. Watt will discuss the connections between art\, activism\, and feminist politics. This event is free and open to the public with a reception to follow. \nUsing various media\, including reclaimed wool blankets\, felt\, pine\, cedar\, and iron\, Marie Watt’s work grapples with indigenous politics\, feminism\, and the relationship between history and memory. Watt received her MFA degree in painting and printmaking from Yale University. Her work has been exhibited at the Tacoma Art Museum\, the Rockwell Museum\, Northwestern University’s Block Museum of Art and the Denver Art Museum. In 2015\, Watt worked on piece in which she conducted sewing circles with students from Tierra Ecnantada High School to draw attention to the collaborative nature of aesthetic creations. Watt is a member of the Turtle Clan of the Seneca Nation and mobilizes several Native American traditions of storytelling and community formation in her work. Her most recent exhibition\, Companion Species (Underbelly) will be on view at the Jordan Schnitzer Museum of Art WSU from April 6\, 2018 to through September 1\, 2018. \nWatt received her MFA degree in painting and printmaking from Yale University. Her work has been exhibited at the Tacoma Art Museum\, the Rockwell Museum\, Northwestern University’s Block Museum of Art and the Denver Art Museum. Her most recent exhibition\, Companion Species (Underbelly) will be on view at the Jordan Schnitzer Museum of Art WSU from April 6\, 2018 to through September 1\, 2018. \nThe Hockenhull lecture series was launched in 1996 by the Women’s Studies Department in collaboration with the Department of Fine Arts to honor Jo Hockenhull\, a WSU emeritus professor of Fine Arts who served as director of women’s studies for more than a decade. At WSU\, Hockenhull focused on building programs and initiatives supporting diversity\, the liberal arts\, free speech\, and critical thinking. Past lecturers have been visual artists\, poets\, and performance artists who have emphasized the important connections between art\, social justice\, and political practice. Former lecturers have included Octavia Butler\, Coco Fusco\, the Guerrilla Girls\, Anna Chavez\, Jaune Quick-to-See Smith\, Ayana Jackson\, and Jin-me Yoon. \nFor more information\, contact Nishant Shahani at 509-335-5286. \nThe lecture is co-sponsored by the Plateau Center
URL:https://museum.wsu.edu/event/marie-watt-jo-hockenhull-distinguished-lecturer-for-2018/
LOCATION:WA
CATEGORIES:Fine Arts,Museum of Art
ATTACH;FMTTYPE=image/jpeg:https://wpcdn.web.wsu.edu/wp-museum/uploads/sites/3189/2018/03/WEB-WATT-3.jpg
END:VEVENT
END:VCALENDAR