BEGIN:VCALENDAR
VERSION:2.0
PRODID:-//Jordan Schnitzer Museum of Art WSU - ECPv6.1.3//NONSGML v1.0//EN
CALSCALE:GREGORIAN
METHOD:PUBLISH
X-WR-CALNAME:Jordan Schnitzer Museum of Art WSU
X-ORIGINAL-URL:https://museum.wsu.edu
X-WR-CALDESC:Events for Jordan Schnitzer Museum of Art WSU
REFRESH-INTERVAL;VALUE=DURATION:PT1H
X-Robots-Tag:noindex
X-PUBLISHED-TTL:PT1H
BEGIN:VTIMEZONE
TZID:America/Los_Angeles
BEGIN:DAYLIGHT
TZOFFSETFROM:-0800
TZOFFSETTO:-0700
TZNAME:PDT
DTSTART:20190310T100000
END:DAYLIGHT
BEGIN:STANDARD
TZOFFSETFROM:-0700
TZOFFSETTO:-0800
TZNAME:PST
DTSTART:20191103T090000
END:STANDARD
END:VTIMEZONE
BEGIN:VEVENT
DTSTART;TZID=America/Los_Angeles:20190412T180000
DTEND;TZID=America/Los_Angeles:20190412T200000
DTSTAMP:20260419T175624
CREATED:20181130T184246Z
LAST-MODIFIED:20181130T184246Z
UID:10000409-1555092000-1555099200@museum.wsu.edu
SUMMARY:2019 | Master of Fine Arts Thesis Reception
DESCRIPTION:RECEPTION: Friday\, April 12\, 6:00-8:00 pm\nEXHIBITION: April 2 – May 4\, 2019 \nABOUT | This annual showcase is the culmination of two or more years work by the Master of Fine Arts graduate candidates. With its wide range of art-making approaches\, this thesis exhibition provides a stimulating experience for faculty\, students and museum visitors. This year’s MFA candidates are Bridgette Costa\, Megan Culbertson\, Diana Norely Fernandez Ortiz\, Brett McElmurry\, Ayanna Z. Nayo\, Dustin M. Regul\, and June T. Sanders. \nTraveling from many places to join the cohort at WSU\, these student-artists have engaged in an intense two-year interdisciplinary studio program. They met regularly with faculty members for group and individual critiques. Visiting artists and scholars provided diverse one-on-one insight into their creative work. Each artist sharpened their confidence\, convictions\, and skills. Their MFA Thesis Exhibition is a focused conclusion\, yet it also marks an exciting transition toward their professional careers. \nFunding has been provided by the Samuel H. & Patricia W. Smith Arts Endowment Fund\, and the Members of the Jordan Schnitzer Museum of Art WSU. \nEXHIBITION | Master of Fine Arts Thesis \nLOCATION | The Jordan Schnitzer Museum of Art WSU is located in the Crimson Cube (on Wilson Road across from Martin Stadium and the CUB) on the WSU Pullman campus. The hours of our six galleries are Tuesday – Saturday\, 10 a.m. – 4 p.m.\, closed Sunday and Monday. For more information please contact the museum at 509-335-1910.
URL:https://museum.wsu.edu/event/2019-master-of-fine-arts-thesis-reception/
LOCATION:Museum of Art/WSU\, Fine Arts Center\, Pullman Campus\, Pullman\, WA\, 99164\, United States
CATEGORIES:Exhibit,Fine Arts,Museum of Art
ATTACH;FMTTYPE=image/jpeg:https://wpcdn.web.wsu.edu/wp-museum/uploads/sites/3189/2019/02/2019-MFA-WEB-BANNER-1.jpg
ORGANIZER;CN="Debby%20Stinson":MAILTO:debby_stinson@wsu.edu
GEO:46.7287207;-117.1542743
X-APPLE-STRUCTURED-LOCATION;VALUE=URI;X-ADDRESS=Museum of Art/WSU Fine Arts Center Pullman Campus Pullman WA 99164 United States;X-APPLE-RADIUS=500;X-TITLE=Fine Arts Center\, Pullman Campus:geo:-117.1542743,46.7287207
END:VEVENT
END:VCALENDAR